BEGIN:VCALENDAR
VERSION:2.0
PRODID:-//ISA - ECPv6.15.6//NONSGML v1.0//EN
CALSCALE:GREGORIAN
METHOD:PUBLISH
X-WR-CALNAME:ISA
X-ORIGINAL-URL:https://www.isaamyloidosis.org
X-WR-CALDESC:Events for ISA
REFRESH-INTERVAL;VALUE=DURATION:PT1H
X-Robots-Tag:noindex
X-PUBLISHED-TTL:PT1H
BEGIN:VTIMEZONE
TZID:America/New_York
BEGIN:DAYLIGHT
TZOFFSETFROM:-0500
TZOFFSETTO:-0400
TZNAME:EDT
DTSTART:20250309T070000
END:DAYLIGHT
BEGIN:STANDARD
TZOFFSETFROM:-0400
TZOFFSETTO:-0500
TZNAME:EST
DTSTART:20251102T060000
END:STANDARD
BEGIN:DAYLIGHT
TZOFFSETFROM:-0500
TZOFFSETTO:-0400
TZNAME:EDT
DTSTART:20260308T070000
END:DAYLIGHT
BEGIN:STANDARD
TZOFFSETFROM:-0400
TZOFFSETTO:-0500
TZNAME:EST
DTSTART:20261101T060000
END:STANDARD
BEGIN:DAYLIGHT
TZOFFSETFROM:-0500
TZOFFSETTO:-0400
TZNAME:EDT
DTSTART:20270314T070000
END:DAYLIGHT
BEGIN:STANDARD
TZOFFSETFROM:-0400
TZOFFSETTO:-0500
TZNAME:EST
DTSTART:20271107T060000
END:STANDARD
END:VTIMEZONE
BEGIN:VTIMEZONE
TZID:Europe/London
BEGIN:DAYLIGHT
TZOFFSETFROM:+0000
TZOFFSETTO:+0100
TZNAME:BST
DTSTART:20250330T010000
END:DAYLIGHT
BEGIN:STANDARD
TZOFFSETFROM:+0100
TZOFFSETTO:+0000
TZNAME:GMT
DTSTART:20251026T010000
END:STANDARD
BEGIN:DAYLIGHT
TZOFFSETFROM:+0000
TZOFFSETTO:+0100
TZNAME:BST
DTSTART:20260329T010000
END:DAYLIGHT
BEGIN:STANDARD
TZOFFSETFROM:+0100
TZOFFSETTO:+0000
TZNAME:GMT
DTSTART:20261025T010000
END:STANDARD
BEGIN:DAYLIGHT
TZOFFSETFROM:+0000
TZOFFSETTO:+0100
TZNAME:BST
DTSTART:20270328T010000
END:DAYLIGHT
BEGIN:STANDARD
TZOFFSETFROM:+0100
TZOFFSETTO:+0000
TZNAME:GMT
DTSTART:20271031T010000
END:STANDARD
END:VTIMEZONE
BEGIN:VTIMEZONE
TZID:America/Montevideo
BEGIN:STANDARD
TZOFFSETFROM:-0300
TZOFFSETTO:-0300
TZNAME:-03
DTSTART:20250101T000000
END:STANDARD
END:VTIMEZONE
BEGIN:VTIMEZONE
TZID:Europe/Athens
BEGIN:DAYLIGHT
TZOFFSETFROM:+0200
TZOFFSETTO:+0300
TZNAME:EEST
DTSTART:20270328T010000
END:DAYLIGHT
BEGIN:STANDARD
TZOFFSETFROM:+0300
TZOFFSETTO:+0200
TZNAME:EET
DTSTART:20271031T010000
END:STANDARD
BEGIN:DAYLIGHT
TZOFFSETFROM:+0200
TZOFFSETTO:+0300
TZNAME:EEST
DTSTART:20280326T010000
END:DAYLIGHT
BEGIN:STANDARD
TZOFFSETFROM:+0300
TZOFFSETTO:+0200
TZNAME:EET
DTSTART:20281029T010000
END:STANDARD
BEGIN:DAYLIGHT
TZOFFSETFROM:+0200
TZOFFSETTO:+0300
TZNAME:EEST
DTSTART:20290325T010000
END:DAYLIGHT
BEGIN:STANDARD
TZOFFSETFROM:+0300
TZOFFSETTO:+0200
TZNAME:EET
DTSTART:20291028T010000
END:STANDARD
END:VTIMEZONE
BEGIN:VEVENT
DTSTART;VALUE=DATE:20260508
DTEND;VALUE=DATE:20260510
DTSTAMP:20260424T102933
CREATED:20260417T073451Z
LAST-MODIFIED:20260417T073628Z
UID:2592-1778198400-1778371199@www.isaamyloidosis.org
SUMMARY:Bradley Z. Naifeh Amyloidosis Conference
DESCRIPTION:Patients and Caregivers: Friday\, May 8 \nMedical Professionals: Saturday\, May 9
URL:https://www.isaamyloidosis.org/event/bradley-z-naifeh-amyloidosis-conference/
END:VEVENT
BEGIN:VEVENT
DTSTART;VALUE=DATE:20260603
DTEND;VALUE=DATE:20260607
DTSTAMP:20260424T102933
CREATED:20260422T084208Z
LAST-MODIFIED:20260422T085624Z
UID:2650-1780444800-1780790399@www.isaamyloidosis.org
SUMMARY:63rd ERA Congress
DESCRIPTION:Join the 63rd European Renal Association (ERA) Congress\, June 3-6\, 2026\, in Glasgow and virtual\, where progress begins with a challenge and curiosity transforms thinking. \n 
URL:https://www.isaamyloidosis.org/event/63rd-era-congress/
CATEGORIES:Calendar
ATTACH;FMTTYPE=image/jpeg:https://www.isaamyloidosis.org/wp-content/uploads/2026/04/ERA-63-Congress-Glasgow_banner-website.jpg
END:VEVENT
BEGIN:VEVENT
DTSTART;VALUE=DATE:20261115
DTEND;VALUE=DATE:20261119
DTSTAMP:20260424T102933
CREATED:20250814T102205Z
LAST-MODIFIED:20260303T132707Z
UID:1652-1794700800-1795046399@www.isaamyloidosis.org
SUMMARY:XX International Symposium on Amyloidosis - ISA 2026
DESCRIPTION:As Chair of the Program Committee\, ISA Board member Eloisa Riva is collaborating with colleagues from the Latin American Program Committee and the international Scientific Committee to develop a comprehensive program to expand knowledge and foster meaningful connections across all disciplines in the amyloidosis community. In addition to cutting-edge scientific presentations\, the committees are organizing special sessions for clinicians new to amyloidosis along with discussions focused on strengthening collaboration between the Latin American and global amyloidosis communities. \nCLICK HERE for more details
URL:https://www.isaamyloidosis.org/event/xx-international-symposium-on-amyloidosis-isa-2026/
LOCATION:Radisson Montevideo Victoria Plaza Hotel\, Pl. Independencia 759\, Montevideo\, Departamento de Montevideo\, 11100\, Uruguay
CATEGORIES:ISA Events
ATTACH;FMTTYPE=image/png:https://www.isaamyloidosis.org/wp-content/uploads/2025/07/ISA-2026_SvD-600x200px.png
ORGANIZER;CN="ISA":MAILTO:info@isaamyloidosis.org
END:VEVENT
BEGIN:VEVENT
DTSTART;VALUE=DATE:20281008
DTEND;VALUE=DATE:20281012
DTSTAMP:20260424T102933
CREATED:20260331T141403Z
LAST-MODIFIED:20260422T084026Z
UID:2560-1854576000-1854921599@www.isaamyloidosis.org
SUMMARY:XXI International Symposium on Amyloidosis - ISA 2028
DESCRIPTION:More information soon
URL:https://www.isaamyloidosis.org/event/xxi-international-symposium-on-amyloidosis-isa-2028/
LOCATION:InterContinental Athenaeum Athens\, Greece\, InterContinental Athenaeum Athens by IHG\, Athens\, Greece\, 117 45
CATEGORIES:Calendar,ISA Events
ATTACH;FMTTYPE=image/jpeg:https://www.isaamyloidosis.org/wp-content/uploads/2026/03/ISA_Athens_2028_Meeting-design_600x200.jpg
ORGANIZER;CN="ISA":MAILTO:info@isaamyloidosis.org
END:VEVENT
END:VCALENDAR